Workbook

Sheet PLANILLA DE TURNOS
C1: PLANILLA DE TURNOS | K1: CÓDIGO | L1: GTH-FO-27
K2: VERSIÓN | L2: 9
K3: FECHA EMISIÓN | L3: 42819
K4: FECHA ACTUALIZACIÓN | L4: 46238
K5: PÁGINA | L5: 1 DE 1
A7: MES: | D7: AÑO | H7: DÍAS | I7: DESDE: | K7: HASTA:
A8: AREA | D8: SERVICIO:
A9: CENTRO DE OPERACIÓN: | F9: RESPONSABLE:
B11: CODIGO DE NOVEDADES
B13: AUS | C13: AUSENCIA SIN JUSTIFICACIÓN | D13: T1 | E13: TURNO 1 (06:00 - 14:00) | G13: T34 | H13: TURNO 34 (08:00-12:00 Y 14:00 - 18:00) | J13: T1003 | K13: TURNO 1003 (15:00 : 22:00)
B14: FAM | C14: PERMISO POR DÍA DE LA FAMILIA | D14: T3 | E14: TURNO 3 (22:00 - 06:00) | G14: T36 | H14: TURNO 36 (7:00-12:00 Y 1:30 - 17:00) | J14: T1004 | K14: TURNO 1004 (19:00 - 03:00)
B15: INCAT | C15: INCAPACIDAD POR ACCIDENTE DE TRABAJO | D15: T5 | E15: TURNO 5(10:00 : 18:00) | G15: T51 | H15: TURNO 51 (06:00 : 13:00) | J15: T1005 | K15: TURNO 1005 (14:00 - 22:00)
B16: INCEPS | C16: INCAPACIDAD POR ENFERMEDAD GENERAL (EPS) | D16: T6 | E16: TURNO 6 (20:00 - 04:00) | G16: T101 | H16: TURNO 101 (4:00 - 11:00) | J16: T1006 | K16: TURNO 1006 (19:00 - 2:00)
B17: INCLM | C17: LICENCIA DE MATERNIDAD | D17: T8 | E17: TURNO 8 (04:00 - 12:00) | G17: T102 | H17: TURNO 102 (5:00 - 12:00) | J17: T1008 | K17: TURNO 1008 ( 06:00 - 10:00 Y 16:00 - 20:00)
B18: INCLP | C18: LICENCIA DE PATERNIDAD | D18: T12 | E18: TURNO 12 (05:00- 13:00) | G18: T103 | H18: TURNO 103 (10:00 : 17:00) | J18: T1010 | K18: TURNO 1010 (13:00 - 20:00)
B19: LCL | C19: LICENCIA DE LUTO | D19: T13 | E19: TURNO 13 (7:00 - 15:00) | G19: T104 | H19: TURNO 104 (08:00 : 15:00) | J19: T1014 | K19: TURNO 1014 (18:00 - 02:00)
B20: MED | C20: PERMISO MÉDICO | D20: T15 | E20: TURNO 15 (21:00 - 05:00) | G20: T106 | H20: TURNO 106 (11:00 : 18:00) | J20: T1019 | K20: TURNO 1019 (14:00 : 21:00)
B21: NDL | C21: NO DEBÍA LABORAR | D21: T17 | E21: TURNO 17 (7:30 - 17:30) | G21: T202 | H21: TURNO 202 (21:00 - 4:00) | J21: T1021 | K21: TURNO 1021 (12:00 - 20:00)
B22: PNR | C22: PERMISO NO REMUNERADO | D22: T18 | E22: TURNO 18 (08:00 - 16:00) | G22: T203 | H22: TURNO 203 (07:00 - 14:00) | J22: T1022 | K22: TURNO 1022 (18:00 - 1:00)
B23: PXC | C23: PERMISO POR CALAMIDAD | D23: T22 | E23: TURNO 22 (06:00 - 10:00) | G23: T206 | H23: TURNO 206 (12:00 - 19:00) | J23: T1026 | K23: TURNO 1026 (20:00 - 3:00)
B24: REM | C24: PERMISO REMUNERADO | D24: T23 | E24: TURNO 23 (11:00 - 18:00) | G24: T302 | H24: TURNO 302 (22:00 - 5:00) | J24: T1029 | K24: TURNO 1029 (04:00 - 8:00 Y 14:00 - 17:00)
B25: SAN | C25: SANCIONADO | D25: T26 | E25: TURNO 26 (06:00 - 12:00 Y 14:00 - 16:00) | G25: T401 | H25: TURNO 401 (8:00 - 12:00 -- 14:00 - 17:00) | J25: T2000 | K25: TURNO 2000 (06:00 - 14:00) ALMACÉN
B26: VAC | C26: VACACIONES | D26: T28 | E26: TURNO 28 (04:00 - 9:00 Y 14:00 - 17:00) | G26: T402 | H26: TURNO 402 (8:00 - 12:00)
B27: REN | C27: RENUNCIA | D27: T30 | E27: TURNO 30 (08:00 - 17:00) | G27: T1000 | H27: TURNO 1000 (13:00 - 21:00)
A30: ITEMS | B30: CEDULA | C30: NOMBRE | D30: CARGO | F30: LUNES COD | G30: MARTES COD | H30: MIERCOLES COD | I30: JUEVES COD | J30: VIERNES COD | K30: SABADO COD | L30: DOMINGO COD
A32: 1 | C32: =++IFERROR(VLOOKUP(B32,Hoja5!$A$1:$B$752,2,),"") | D32: =++IFERROR(VLOOKUP(B32,Hoja5!$A$1:$C$752,3,),"")
A33: 2 | C33: =++IFERROR(VLOOKUP(B33,Hoja5!$A$1:$B$752,2,),"") | D33: =++IFERROR(VLOOKUP(B33,Hoja5!$A$1:$C$752,3,),"")
A34: 3 | C34: =++IFERROR(VLOOKUP(B34,Hoja5!$A$1:$B$752,2,),"") | D34: =++IFERROR(VLOOKUP(B34,Hoja5!$A$1:$C$752,3,),"")
A35: 4 | C35: =++IFERROR(VLOOKUP(B35,Hoja5!$A$1:$B$752,2,),"") | D35: =++IFERROR(VLOOKUP(B35,Hoja5!$A$1:$C$752,3,),"")
A36: 5 | C36: =++IFERROR(VLOOKUP(B36,Hoja5!$A$1:$B$752,2,),"") | D36: =++IFERROR(VLOOKUP(B36,Hoja5!$A$1:$C$752,3,),"")
A37: 6 | C37: =++IFERROR(VLOOKUP(B37,Hoja5!$A$1:$B$752,2,),"") | D37: =++IFERROR(VLOOKUP(B37,Hoja5!$A$1:$C$752,3,),"")
A38: 7 | C38: =++IFERROR(VLOOKUP(B38,Hoja5!$A$1:$B$752,2,),"") | D38: =++IFERROR(VLOOKUP(B38,Hoja5!$A$1:$C$752,3,),"")
A39: 8 | C39: =++IFERROR(VLOOKUP(B39,Hoja5!$A$1:$B$752,2,),"") | D39: =++IFERROR(VLOOKUP(B39,Hoja5!$A$1:$C$752,3,),"")
A40: 9 | C40: =++IFERROR(VLOOKUP(B40,Hoja5!$A$1:$B$752,2,),"") | D40: =++IFERROR(VLOOKUP(B40,Hoja5!$A$1:$C$752,3,),"")
A41: 10 | C41: =++IFERROR(VLOOKUP(B41,Hoja5!$A$1:$B$752,2,),"") | D41: =++IFERROR(VLOOKUP(B41,Hoja5!$A$1:$C$752,3,),"")
A42: 11 | C42: =++IFERROR(VLOOKUP(B42,Hoja5!$A$1:$B$752,2,),"") | D42: =++IFERROR(VLOOKUP(B42,Hoja5!$A$1:$C$752,3,),"")
A43: 12 | C43: =++IFERROR(VLOOKUP(B43,Hoja5!$A$1:$B$752,2,),"") | D43: =++IFERROR(VLOOKUP(B43,Hoja5!$A$1:$C$752,3,),"")
... A47: 16 | C47: =++IFERROR(VLOOKUP(B47,Hoja5!$A$1:$B$752,2,),"") | D47: =++IFERROR(VLOOKUP(B47,Hoja5!$A$1:$C$752,3,),"")
A48: ITEMS | B48: CEDULA | C48: NOMBRE | D48: CARGO | F48: LUNES COD | G48: MARTES COD | H48: MIERCOLES COD | I48: JUEVES COD | J48: VIERNES COD | K48: SABADO COD | L48: DOMINGO COD
A50: 17 | C50: =++IFERROR(VLOOKUP(B50,Hoja5!$A$1:$B$752,2,),"") | D50: =++IFERROR(VLOOKUP(B50,Hoja5!$A$1:$C$752,3,),"")
...

Sheet Hoja5
A1: 1005772394 | B1: ABELLO CARTAGENA ANDERSON STIVEN | C1: OPERARIO DE SERVICIO ESPECIAL DE ASEO
A2: 28554092 | B2: ACOSTA CAMELO LIBIA | C2: OPERARIO DE BARRIDO
A3: 6826306 | B3: ACOSTA ROJAS EDWARD ENRIQUE | C3: AYUDANTE DE RECOLECCION
A4: 1004282295 | B4: ACUÑA OCHOA DALTON JAVIER | C4: OPERARIO DE BARRIDO
A5: 1012322707 | B5: AGUILAR BELTRAN JUAN CARLOS | C5: JEFE DE DISPOSICION FINAL
A6: 1108455611 | B6: AGUILAR GIZMAN JOSE DANIEL | C6: AYUDANTE DE RECOLECCION
A7: 11228928 | B7: AGUILAR SANCHEZ OSCAR JOSE | C7: OPERARIO DE BARRIDO
A8: 39805689 | B8: AGUIRRE MALDONADO NORMA CONSUELO | C8: ANALISTA SENIOR DE GESTION HUMANA
A9: 1023002730 | B9: AGUIRRE SANTOS JUAN CAMILO | C9: AYUDANTE DE RECOLECCION
A10: 11227111 | B10: AGUIRRE TIQUE JOSE HUMBERTO | C10: CONDUCTOR
A11: 1108454984 | B11: ALAPE CRISTIAN ESTEBAN | C11: ASESOR COMERCIAL
A12: 1302386 | B12: ALMEIDA GUTIERREZ EDUAR | C12: OPERARIO DE BARRIDO
... A597: 1007788894 | B597: ZAPATA ROZO DIEGO ALONSO | C597: OPERARIO DE ESTACION DE TRANSFERENCIA
A598: ACTUALIZADO 18072026
